BEGIN:VCALENDAR
VERSION:2.0
PRODID:Events Booking
BEGIN:VEVENT
UID:69e4ccd56710a
SUMMARY:Bicinsieme
DESCRIPTION:Bicinsieme a&nbsp\;Aosta (raduno Arco d'Augusto) 1 giugno 2024
 
 Pedalata di beneficenza da Aosta a Doues e ritorno
LOCATION:Aosta\, 11100 Valle d'Aosta\, Italia
DTSTART:20240601T090000Z
DTSTAMP:20240513T115705Z
ORGANIZER;CN=Aosta Eventi e Notizie:MAILTO:networkeventnews@gmail.com
GEO:45.737089;7.319665
X-APPLE-STRUCTURED-LOCATION;VALUE=URI;X-ADDRESS=Aosta\, 11100 Valle d'Aosta
 \, Italia;X-APPLE-RADIUS=72;X-TITLE=Aosta:45.737089;7.319665
END:VEVENT
END:VCALENDAR